BEGIN:VCALENDAR
VERSION:2.0
PRODID:-//ChamberMaster//Event Calendar 2.0//EN
METHOD:PUBLISH
X-PUBLISHED-TTL:P3D
REFRESH-INTERVAL:P3D
CALSCALE:GREGORIAN
BEGIN:VEVENT
DTSTART:20191215T000000Z
DTEND:20191215T055500Z
X-MICROSOFT-CDO-ALLDAYEVENT:FALSE
SUMMARY:5th Annual Winter Wonderland Gala
DESCRIPTION:5th Annual Winter Wonderland Gala\n\nBenefitting the Boys and Girls Clubs of Champion Valley\n\nPrime Rib Meal with Wine - Live and Silent Auction\n\nDancing to the Natalie Rose Band of Seguin\n\n*Tables and Sponsorships available
X-ALT-DESC;FMTTYPE=text/html:5th Annual Winter Wonderland Gala<br />\nBenefitting the Boys and Girls Clubs of Champion Valley<br />\nPrime Rib Meal with Wine - Live and Silent Auction<br />\nDancing to the Natalie Rose Band of Seguin<br />\n*Tables and Sponsorships available
LOCATION:Southern Oaks Event Center 1368 Hwy 71 Business Columbus Texas 78934
UID:e.3109.5855
SEQUENCE:3
DTSTAMP:20260425T223136Z
URL:https://business.columbustexas.org/events/details/5th-annual-winter-wonderland-gala-5855
END:VEVENT

END:VCALENDAR
