BEGIN:VCALENDAR
VERSION:2.0
PRODID:-//ChamberMaster//Event Calendar 2.0//EN
METHOD:PUBLISH
X-PUBLISHED-TTL:P3D
REFRESH-INTERVAL:P3D
CALSCALE:GREGORIAN
BEGIN:VEVENT
DTSTART:20190820T140000Z
DTEND:20190820T220000Z
X-MICROSOFT-CDO-ALLDAYEVENT:FALSE
SUMMARY:Basic Quick Books
DESCRIPTION:This is an all-day\, basic level course\, intended for people who have either no experience or limited experience using the QuickBooks software. You should be familiar with Windows on a PC. This class will not teach the online version of QuickBooks. Each attendee will have a desktop computer to use during the class . . . and be given reference materials to keep.
X-ALT-DESC;FMTTYPE=text/html:This is an all-day\, basic level course\, intended for people who have either no experience or limited experience using the QuickBooks software. You should be familiar with Windows on a PC. This class will not teach the online version of QuickBooks. Each attendee will have a desktop computer to use during the class . . . and be given reference materials to keep.
LOCATION:A.W. Hodde\, Jr.\, Technical Education Center 2910 South Blue Bell Road Brenham\, Texas 77833 979-830-4137
UID:e.3109.5633
SEQUENCE:3
DTSTAMP:20260423T075117Z
URL:https://business.columbustexas.org/events/details/basic-quick-books-5633
END:VEVENT

END:VCALENDAR
