BEGIN:VCALENDAR
VERSION:2.0
PRODID:-//ChamberMaster//Event Calendar 2.0//EN
METHOD:PUBLISH
X-PUBLISHED-TTL:P3D
REFRESH-INTERVAL:P3D
CALSCALE:GREGORIAN
BEGIN:VEVENT
DTSTART:20201024T170000Z
DTEND:20201024T230000Z
X-MICROSOFT-CDO-ALLDAYEVENT:FALSE
SUMMARY:Briana Adams at The Duck
DESCRIPTION:Briana Adams returns to the Whistling Duck Winery to entertain your from 2-5 pm.  \n\nRegular food menu will be served.
X-ALT-DESC;FMTTYPE=text/html:Briana Adams returns to the Whistling Duck Winery to entertain your from 2-5 pm.&nbsp\;&nbsp\;<br />\nRegular food menu will be served.&nbsp\;&nbsp\;
LOCATION:Whistling Duck Vineyards & Winery 1213 County Road 273 Weimar\, Texas
UID:e.3109.6706
SEQUENCE:3
DTSTAMP:20260421T004247Z
URL:https://business.columbustexas.org/events/details/briana-adams-at-the-duck-6706
END:VEVENT

END:VCALENDAR
