BEGIN:VCALENDAR
VERSION:2.0
PRODID:-//ChamberMaster//Event Calendar 2.0//EN
METHOD:PUBLISH
X-PUBLISHED-TTL:P3D
REFRESH-INTERVAL:P3D
CALSCALE:GREGORIAN
BEGIN:VEVENT
DTSTART:20201027T220000Z
DTEND:20201028T000000Z
X-MICROSOFT-CDO-ALLDAYEVENT:FALSE
SUMMARY:Chili Dinner Drive-Thru Fundraiser
DESCRIPTION:Chili Dinner Fundraiser\n\nSponsored by the Columbus\, Tx Chamber of Commerce\n\nHomemade chili served with cornbread and fritos\n\nTickets at the Chamber office
X-ALT-DESC;FMTTYPE=text/html:Chili Dinner Fundraiser<br />\nSponsored by the Columbus\, Tx Chamber of Commerce<br />\nHomemade chili served with cornbread and fritos<br />\nTickets at the Chamber office
LOCATION:Columbus Chamber of Commerce Stafford Opera House 425 Spring Street Columbus\, Texas
UID:e.3109.6698
SEQUENCE:3
DTSTAMP:20260419T153008Z
URL:https://business.columbustexas.org/events/details/chili-dinner-drive-thru-fundraiser-6698
END:VEVENT

END:VCALENDAR
