BEGIN:VCALENDAR
VERSION:2.0
PRODID:-//ChamberMaster//Event Calendar 2.0//EN
METHOD:PUBLISH
X-PUBLISHED-TTL:P3D
REFRESH-INTERVAL:P3D
CALSCALE:GREGORIAN
BEGIN:VEVENT
DTSTART:20210620T010000Z
DTEND:20210620T040000Z
X-MICROSOFT-CDO-ALLDAYEVENT:FALSE
SUMMARY:Darrel Appelt @ Blake Street
DESCRIPTION:Local "celeb" Darrel Appelt will be singing some tunes.  Enjoy a great meal\, drinks and listen to Darrel perform songs from his new album
X-ALT-DESC;FMTTYPE=text/html:Local &quot\;celeb&quot\; Darrel Appelt will be singing some tunes.&nbsp\; Enjoy a great meal\, drinks and listen to Darrel perform songs from his new album
LOCATION:Blake Street Sports Bar 2101 Milam Street Columbus\, TX
UID:e.3109.7450
SEQUENCE:3
DTSTAMP:20260422T172250Z
URL:https://business.columbustexas.org/events/details/darrel-appelt-blake-street-7450
END:VEVENT

END:VCALENDAR
