BEGIN:VCALENDAR
VERSION:2.0
PRODID:-//ChamberMaster//Event Calendar 2.0//EN
METHOD:PUBLISH
X-PUBLISHED-TTL:P3D
REFRESH-INTERVAL:P3D
CALSCALE:GREGORIAN
BEGIN:VEVENT
DTSTART:20200716T233000Z
DTEND:20200717T023000Z
X-MICROSOFT-CDO-ALLDAYEVENT:FALSE
SUMMARY:Darrel Appelt @ Kenney Store
DESCRIPTION:Darrel Appelt Acoustic Performance at Kenney Store
X-ALT-DESC;FMTTYPE=text/html:Darrel Appelt Acoustic Performance at Kenney Store
LOCATION:Kenney Store 811 South Loop 497 Kenney\, Texas
UID:e.3109.6068
SEQUENCE:3
DTSTAMP:20260420T103704Z
URL:https://business.columbustexas.org/events/details/darrel-appelt-kenney-store-6068
END:VEVENT

END:VCALENDAR
