BEGIN:VCALENDAR
VERSION:2.0
PRODID:-//ChamberMaster//Event Calendar 2.0//EN
METHOD:PUBLISH
X-PUBLISHED-TTL:P3D
REFRESH-INTERVAL:P3D
CALSCALE:GREGORIAN
BEGIN:VEVENT
DTSTART;VALUE=DATE:20230616
DTEND;VALUE=DATE:20230618
TRANSP:TRANSPARENT
X-MICROSOFT-CDO-ALLDAYEVENT:TRUE
SUMMARY:FFA Alumni June Cookoff
DESCRIPTION:All proceeds benefit FFA Alumni and FFA Chapter at Columbus High School\n\nEarly bird registration due by May 15
X-ALT-DESC;FMTTYPE=text/html:All proceeds benefit FFA Alumni and FFA Chapter at Columbus High School<br />\nEarly bird registration due by May 15
LOCATION:Colorado County Fairgrounds 1146 Crossroads Blvd. Columbus\, Texas
UID:e.3109.8845
SEQUENCE:3
DTSTAMP:20260423T022839Z
URL:https://business.columbustexas.org/events/details/ffa-alumni-june-cookoff-8845
END:VEVENT

END:VCALENDAR
