BEGIN:VCALENDAR
VERSION:2.0
PRODID:-//ChamberMaster//Event Calendar 2.0//EN
METHOD:PUBLISH
X-PUBLISHED-TTL:P3D
REFRESH-INTERVAL:P3D
CALSCALE:GREGORIAN
BEGIN:VEVENT
DTSTART:20210323T220000Z
DTEND:20210324T000000Z
X-MICROSOFT-CDO-ALLDAYEVENT:FALSE
SUMMARY:Free Bingo @ Hound Song Brewing Company
DESCRIPTION:Calling all BINGO enthusiasts\, dabblers\, or those just seeking a little work-week fun! Come on out to our taproom for a few rounds of BINGO every Tuesday between 5 and 7 pm!\n\n- No buy-in for cards\n\n- Games are "straight-line" bingo\n\n- Small prizes* are awarded to winners!\n\n- Daubers available for purchase in the taproom\n\n*No cash prizes- we're just having a little fun y'all. \nSee Less
X-ALT-DESC;FMTTYPE=text/html:<div class="kvgmc6g5 cxmmr5t8 oygrvhab hcukyx3x c1et5uql" style="overflow-wrap: break-word\; margin: 0px\; font-family: &quot\;Segoe UI Historic&quot\;\, &quot\;Segoe UI&quot\;\, Helvetica\, Arial\, sans-serif\; color: rgb(5\, 5\, 5)\; font-size: 15px\; animation-name: none !important\; transition-property: none !important\;">Calling all BINGO enthusiasts\, dabblers\, or those just seeking a little work-week fun! Come on out to our taproom for a few rounds of BINGO every Tuesday between 5 and 7 pm!</div>\n\n<div class="o9v6fnle cxmmr5t8 oygrvhab hcukyx3x c1et5uql" style="overflow-wrap: break-word\; margin: 0.5em 0px 0px\; font-family: &quot\;Segoe UI Historic&quot\;\, &quot\;Segoe UI&quot\;\, Helvetica\, Arial\, sans-serif\; color: rgb(5\, 5\, 5)\; font-size: 15px\; animation-name: none !important\; transition-property: none !important\;">- No buy-in for cards<br style="animation-name: none !important\; transition-property: none !important\;">\n- Games are "straight-line" bingo<br style="animation-name: none !important\; transition-property: none !important\;">\n- Small prizes* are awarded to winners!<br style="animation-name: none !important\; transition-property: none !important\;">\n- Daubers available for purchase in the taproom</div>\n\n<div class="o9v6fnle cxmmr5t8 oygrvhab hcukyx3x c1et5uql" style="overflow-wrap: break-word\; margin: 0.5em 0px 0px\; font-family: &quot\;Segoe UI Historic&quot\;\, &quot\;Segoe UI&quot\;\, Helvetica\, Arial\, sans-serif\; color: rgb(5\, 5\, 5)\; font-size: 15px\; animation-name: none !important\; transition-property: none !important\;">*No cash prizes- we're just having a little fun y'all.&nbsp\;\n<div class="oajrlxb2 g5ia77u1 qu0x051f esr5mh6w e9989ue4 r7d6kgcz rq0escxv nhd2j8a9 nc684nl6 p7hjln8o kvgmc6g5 cxmmr5t8 oygrvhab hcukyx3x jb3vyjys rz4wbd8a qt6c0cv9 a8nywdso i1ao9s8h esuyzwwr f1sip0of lzcic4wl oo9gr5id gpro0wi8 lrazzd5p" role="button" style="outline: none\; list-style: none\; border-width: 0px\; border-style: initial\; border-color: initial\; padding: 0px\; margin: 0px\; touch-action: manipulation\; background-color: transparent\; text-align: inherit\; font-weight: 600\; display: inline\; cursor: pointer\; -webkit-tap-highlight-color: transparent\; color: var(--primary-text)\; box-sizing: border-box\; font-family: inherit\; animation-name: none !important\; transition-property: none !important\;" tabindex="0">See Less</div>\n</div>\n
LOCATION:Hound Song Brewing Company 535 Walnut Street Columbus\, Texas
UID:e.3109.6801
SEQUENCE:3
DTSTAMP:20260420T165004Z
URL:https://business.columbustexas.org/events/details/free-bingo-hound-song-brewing-company-03-23-2021-6801
END:VEVENT

END:VCALENDAR
