BEGIN:VCALENDAR
VERSION:2.0
PRODID:-//ChamberMaster//Event Calendar 2.0//EN
METHOD:PUBLISH
X-PUBLISHED-TTL:P3D
REFRESH-INTERVAL:P3D
CALSCALE:GREGORIAN
BEGIN:VEVENT
DTSTART:20200618T223000Z
DTEND:20200619T030000Z
X-MICROSOFT-CDO-ALLDAYEVENT:FALSE
SUMMARY:Friends of Bluebonnet Opry
DESCRIPTION:June 18th Show\n\n with performers -\n\nDavid Lewis\n\nLinda Robinson\n\nColby Carter
X-ALT-DESC;FMTTYPE=text/html:<h3 style="box-sizing: border-box\; font-family: &quot\;Great Vibes&quot\;\, cursive\; line-height: 1.1\; color: rgb(0\, 0\, 0)\; margin: 5px 0px 0px\; font-size: 36px\;"><span style="box-sizing: border-box\; font-weight: 700\;">June 18th Show</span></h3>\n\n<h3 style="box-sizing: border-box\; font-family: &quot\;Great Vibes&quot\;\, cursive\; line-height: 1.1\; color: rgb(0\, 0\, 0)\; margin: 5px 0px 0px\; font-size: 36px\;"><span style="box-sizing: border-box\; font-weight: 700\;">&nbsp\;with performers -</span></h3>\n\n<h3 style="box-sizing: border-box\; font-family: &quot\;Great Vibes&quot\;\, cursive\; line-height: 1.1\; color: rgb(0\, 0\, 0)\; margin: 5px 0px 0px\; font-size: 36px\;">David Lewis</h3>\n\n<h3 style="box-sizing: border-box\; font-family: &quot\;Great Vibes&quot\;\, cursive\; line-height: 1.1\; color: rgb(0\, 0\, 0)\; margin: 5px 0px 0px\; font-size: 36px\;">Linda Robinson</h3>\n\n<h3 style="box-sizing: border-box\; font-family: &quot\;Great Vibes&quot\;\, cursive\; line-height: 1.1\; color: rgb(0\, 0\, 0)\; margin: 5px 0px 0px\; font-size: 36px\;">Colby Carter</h3>\n<br />\n&nbsp\;
LOCATION:Silver Wings Ballroom 4100 Highway 105 Brenham\, Texas
UID:e.3109.3833
SEQUENCE:3
DTSTAMP:20260420T060842Z
URL:https://business.columbustexas.org/events/details/friends-of-bluebonnet-opry-06-18-2020-3833
END:VEVENT

END:VCALENDAR
