BEGIN:VCALENDAR
VERSION:2.0
PRODID:-//ChamberMaster//Event Calendar 2.0//EN
METHOD:PUBLISH
X-PUBLISHED-TTL:P3D
REFRESH-INTERVAL:P3D
CALSCALE:GREGORIAN
BEGIN:VEVENT
DTSTART:20191121T233000Z
DTEND:20191122T040000Z
X-MICROSOFT-CDO-ALLDAYEVENT:FALSE
SUMMARY:Friends of Bluebonnet Opry
DESCRIPTION:Friends of Bluebonnet Opry\n\nBluebonnet Opry House Band
X-ALT-DESC;FMTTYPE=text/html:Friends of Bluebonnet Opry<br />\nBluebonnet Opry House Band
LOCATION:Silver Wings Ballroom
UID:e.3109.3826
SEQUENCE:3
DTSTAMP:20260424T190124Z
URL:https://business.columbustexas.org/events/details/friends-of-bluebonnet-opry-11-21-2019-3826
END:VEVENT

END:VCALENDAR
