BEGIN:VCALENDAR
VERSION:2.0
PRODID:-//ChamberMaster//Event Calendar 2.0//EN
METHOD:PUBLISH
X-PUBLISHED-TTL:P3D
REFRESH-INTERVAL:P3D
CALSCALE:GREGORIAN
BEGIN:VEVENT
DTSTART:20201031T170000Z
DTEND:20201031T230000Z
X-MICROSOFT-CDO-ALLDAYEVENT:FALSE
SUMMARY:Halloween @ The Duck
DESCRIPTION:Saturday\, October 31st\n\n			HALLOWEEN @ THE DUCK!\n\n			 \n\n			Live Music by\n\n			CASEY CHESNUTT\n\n			2 to 5 PM\n\n			 \n\n			Costume Contest with Prizes!
X-ALT-DESC;FMTTYPE=text/html:<table border="0" cellpadding="0" cellspacing="0" style="width:100.0%\;" width="100%">\n	<tbody>\n		<tr>\n			<td style="padding:0in 0in 0in 0in\;"><strong><span style="color:#3D454D\;"><span style="font-family:helvetica\,sans-serif\;"><span style="font-size:21.0pt\;">Saturday\, October 31st</span></span></span></strong><br />\n			<strong><span style="color:#3D454D\;"><span style="font-family:helvetica\,sans-serif\;"><span style="font-size:21.0pt\;">HALLOWEEN @ THE DUCK!</span></span></span></strong><br />\n			&nbsp\;<br />\n			<strong><span style="color:#3D454D\;"><span style="font-family:helvetica\,sans-serif\;"><span style="font-size:21.0pt\;">Live Music by</span></span></span></strong><br />\n			<strong><span style="color:#3D454D\;"><span style="font-family:helvetica\,sans-serif\;"><span style="font-size:21.0pt\;">CASEY CHESNUTT</span></span></span></strong><br />\n			<strong><span style="color:#3D454D\;"><span style="font-family:helvetica\,sans-serif\;"><span style="font-size:21.0pt\;">2 to 5 PM</span></span></span></strong><br />\n			&nbsp\;<br />\n			<strong><span style="color:#3D454D\;"><span style="font-family:helvetica\,sans-serif\;"><span style="font-size:21.0pt\;">Costume Contest with Prizes!</span></span></span></strong></td>\n		</tr>\n	</tbody>\n</table>\n
LOCATION:Whistling Duck Vineyards & Winery 1213 County Road 273 Weimar\, Texas
UID:e.3109.6707
SEQUENCE:3
DTSTAMP:20260421T131747Z
URL:https://business.columbustexas.org/events/details/halloween-the-duck-6707
END:VEVENT

END:VCALENDAR
