BEGIN:VCALENDAR
VERSION:2.0
PRODID:-//ChamberMaster//Event Calendar 2.0//EN
METHOD:PUBLISH
X-PUBLISHED-TTL:P3D
REFRESH-INTERVAL:P3D
CALSCALE:GREGORIAN
BEGIN:VEVENT
DTSTART:20210731T190000Z
DTEND:20210731T220000Z
X-MICROSOFT-CDO-ALLDAYEVENT:FALSE
SUMMARY:Hayden Baker @ Whistling Duck Winery
DESCRIPTION:Live Music by\n\nHAYDEN BAKER\n\n\n\nWe have scheduled the return of an AMAZING performer to entertain you on Saturday\, July 31st from 2 to 5 PM! Texas native\, HAYDEN BAKER\, has gone from posting cover songs and "how-to" guitar tutorials on YouTube to opening for some of country music's biggest stars in the span of just a few short years. His style of playing carefully blends the neo-traditional country sound complete with crying steel and soaring fiddle with ripping guitar solos reminiscent of Brad Paisley.\n\n\n\nHe has received praise for both his guitar playing and songwriting skills from many industry giants\; including Ronnie Dunn\, Clay Walker\, Chris DuBois\, Wade Bowen and his guitar hero BRAD PAISLEY who stated\, "young whippersnapper has talent". As Clay put it\, "You have to be born with the gift of songwriting to be successful. This kid was born with it!"\n\n\n\nHayden's live shows are full of energy. Expect country-rocker's\, high speed train beats\, mid-tempo dancing songs\, and a few waltz's full of fiddle and steel. Oh\, and LOTS of guitar solos. Though Hayden has only been performing for a short time\, he has accomplished more than most could dream of doing in their career. In November of 2018\, Hayden stood in front of 5\,000+ and opened the show for the great WILLIE NELSON at The Smart Financial Centre in Sugar Land\, Texas. He has also opened for the likes of Larry Gatlin\, Wade Bowen\, Parker McCollum\, Randall King\, Josh Ward\, Tracy Lawrence and Joe Nichols.\n\n\n\nIn addition to this great entertainment\, we'll also have our Regular Food Menu available for purchase. We're open from Noon to 6 PM.\n\n\n\nPORCH SITTIN'\, WINE SIPPIN'\, COUNTRY TRIPPIN' - FUN!!
X-ALT-DESC;FMTTYPE=text/html:<span style="font-family: book_antiquaregular\; font-size: 14px\; letter-spacing: 0.4px\; background-color: rgba(252\, 250\, 245\, 0.4)\;">Live Music by</span><br style="box-sizing: border-box\; font-family: book_antiquaregular\; font-size: 14px\; letter-spacing: 0.4px\; background-color: rgba(252\, 250\, 245\, 0.4)\;" />\n<span style="font-family: book_antiquaregular\; font-size: 14px\; letter-spacing: 0.4px\; background-color: rgba(252\, 250\, 245\, 0.4)\;">HAYDEN BAKER</span><br style="box-sizing: border-box\; font-family: book_antiquaregular\; font-size: 14px\; letter-spacing: 0.4px\; background-color: rgba(252\, 250\, 245\, 0.4)\;" />\n<br style="box-sizing: border-box\; font-family: book_antiquaregular\; font-size: 14px\; letter-spacing: 0.4px\; background-color: rgba(252\, 250\, 245\, 0.4)\;" />\n<span style="font-family: book_antiquaregular\; font-size: 14px\; letter-spacing: 0.4px\; background-color: rgba(252\, 250\, 245\, 0.4)\;">We have scheduled the return of an AMAZING performer to entertain you on Saturday\, July 31st from 2 to 5 PM! Texas native\, HAYDEN BAKER\, has gone from posting cover songs and &ldquo\;how-to&rdquo\; guitar tutorials on YouTube to opening for some of country music&rsquo\;s biggest stars in the span of just a few short years. His style of playing carefully blends the neo-traditional country sound complete with crying steel and soaring fiddle with ripping guitar solos reminiscent of Brad Paisley.</span><br style="box-sizing: border-box\; font-family: book_antiquaregular\; font-size: 14px\; letter-spacing: 0.4px\; background-color: rgba(252\, 250\, 245\, 0.4)\;" />\n<br style="box-sizing: border-box\; font-family: book_antiquaregular\; font-size: 14px\; letter-spacing: 0.4px\; background-color: rgba(252\, 250\, 245\, 0.4)\;" />\n<span style="font-family: book_antiquaregular\; font-size: 14px\; letter-spacing: 0.4px\; background-color: rgba(252\, 250\, 245\, 0.4)\;">He has received praise for both his guitar playing and songwriting skills from many industry giants\; including Ronnie Dunn\, Clay Walker\, Chris DuBois\, Wade Bowen and&mdash\;his guitar hero&mdash\;BRAD PAISLEY who stated\, &ldquo\;young whippersnapper has talent&rdquo\;. As Clay put it\, &ldquo\;You have to be born with the gift of songwriting to be successful. This kid was born with it!&rdquo\;</span><br style="box-sizing: border-box\; font-family: book_antiquaregular\; font-size: 14px\; letter-spacing: 0.4px\; background-color: rgba(252\, 250\, 245\, 0.4)\;" />\n<br style="box-sizing: border-box\; font-family: book_antiquaregular\; font-size: 14px\; letter-spacing: 0.4px\; background-color: rgba(252\, 250\, 245\, 0.4)\;" />\n<span style="font-family: book_antiquaregular\; font-size: 14px\; letter-spacing: 0.4px\; background-color: rgba(252\, 250\, 245\, 0.4)\;">Hayden&#39\;s live shows are full of energy. Expect country-rocker&#39\;s\, high speed train beats\, mid-tempo dancing songs\, and a few waltz&#39\;s full of fiddle and steel. Oh\, and LOTS of guitar solos. Though Hayden has only been performing for a short time\, he has accomplished more than most could dream of doing in their career. In November of 2018\, Hayden stood in front of 5\,000+ and opened the show for the great WILLIE NELSON at The Smart Financial Centre in Sugar Land\, Texas. He has also opened for the likes of Larry Gatlin\, Wade Bowen\, Parker McCollum\, Randall King\, Josh Ward\, Tracy Lawrence and Joe Nichols.</span><br style="box-sizing: border-box\; font-family: book_antiquaregular\; font-size: 14px\; letter-spacing: 0.4px\; background-color: rgba(252\, 250\, 245\, 0.4)\;" />\n<br style="box-sizing: border-box\; font-family: book_antiquaregular\; font-size: 14px\; letter-spacing: 0.4px\; background-color: rgba(252\, 250\, 245\, 0.4)\;" />\n<span style="font-family: book_antiquaregular\; font-size: 14px\; letter-spacing: 0.4px\; background-color: rgba(252\, 250\, 245\, 0.4)\;">In addition to this great entertainment\, we&#39\;ll also have our Regular Food Menu available for purchase. We&#39\;re open from Noon to 6 PM.</span><br style="box-sizing: border-box\; font-family: book_antiquaregular\; font-size: 14px\; letter-spacing: 0.4px\; background-color: rgba(252\, 250\, 245\, 0.4)\;" />\n<br style="box-sizing: border-box\; font-family: book_antiquaregular\; font-size: 14px\; letter-spacing: 0.4px\; background-color: rgba(252\, 250\, 245\, 0.4)\;" />\n<span style="font-family: book_antiquaregular\; font-size: 14px\; letter-spacing: 0.4px\; background-color: rgba(252\, 250\, 245\, 0.4)\;">PORCH SITTIN&#39\;\, WINE SIPPIN&#39\;\, COUNTRY TRIPPIN&#39\; - FUN!!</span>
LOCATION:Whistling Duck Vineyards & Winery 1211 CR 273 Weimar\, Texas 78962
UID:e.3109.7486
SEQUENCE:3
DTSTAMP:20260421T131443Z
URL:https://business.columbustexas.org/events/details/hayden-baker-whistling-duck-winery-7486
END:VEVENT

END:VCALENDAR
