BEGIN:VCALENDAR
VERSION:2.0
PRODID:-//ChamberMaster//Event Calendar 2.0//EN
METHOD:PUBLISH
X-PUBLISHED-TTL:P3D
REFRESH-INTERVAL:P3D
CALSCALE:GREGORIAN
BEGIN:VEVENT
DTSTART:20240928T050000Z
DTEND:20240929T030000Z
X-MICROSOFT-CDO-ALLDAYEVENT:FALSE
SUMMARY:Houndtoberfest @ Hound Song Brewing Co.
DESCRIPTION:Houndtoberfest!\n\nBigger & Better than Ever!\n\nStein Hoisting Contest\n\nBeer Puppet Face-Off\n\nMenu Specials & More\n\nLice Music!!!
X-ALT-DESC;FMTTYPE=text/html:Houndtoberfest!<br />\nBigger &amp\; Better than Ever!<br />\nStein Hoisting Contest<br />\nBeer Puppet Face-Off<br />\nMenu Specials &amp\; More<br />\nLice Music!!!
LOCATION:Hound Song Brewing Co. 535 Walnut Street Columbus\, TX 78934
UID:e.3109.12762
SEQUENCE:3
DTSTAMP:20260419T120450Z
URL:https://business.columbustexas.org/events/details/houndtoberfest-hound-song-brewing-co-12762
END:VEVENT

END:VCALENDAR
