BEGIN:VCALENDAR
VERSION:2.0
PRODID:-//ChamberMaster//Event Calendar 2.0//EN
METHOD:PUBLISH
X-PUBLISHED-TTL:P3D
REFRESH-INTERVAL:P3D
CALSCALE:GREGORIAN
BEGIN:VEVENT
DTSTART;VALUE=DATE:20180831
DTEND;VALUE=DATE:20180904
TRANSP:TRANSPARENT
X-MICROSOFT-CDO-ALLDAYEVENT:TRUE
SUMMARY:Labor Day @ Splashway
DESCRIPTION:The kids are back in school\, traffic is getting worse\, and soon cooler weather will be rolling in but\, at Splashway\, we're still in Summer-Mode! Make the most of this warm\, sunny weather and fight the back to school blues by enjoying a gorgeous 3-day weekend at Splashway. Come for the day\, or stay for the weekend - we have everything you'll need to have some fun in the sun!\n\n\n\nDid you know our Laser Tag and Putt Putt Courses are open to everyone\, not just campers? If you're coming for just a day trip\, make sure to swing by our campgrounds for a little friendly family competition!\n\n\n\nIn the campgrounds\, we'll be celebrating our Hometown Heroes and giving you an up-close look on what it takes to be one of the brave members of a police or fire department. We'll also have crafts\, movie nights\, games\, live music\, and more! BOOK NOW - Cabins and Cottages are still available!\n\n\n\n*Please note\, all campground activities are exclusive to campground guests. Waterpark tickets do not grant you access to the campgrounds.
X-ALT-DESC;FMTTYPE=text/html:<span style="color: rgb(29\, 33\, 41)\; font-family: Helvetica\, Arial\, sans-serif\; font-size: 14px\;">The kids are back in school\, traffic is getting worse\, and soon cooler weather will be rolling in but\, at Splashway\, we&rsquo\;re still in Summer-Mode! Make the most of this warm\, sunny weather and fight the back to school blues by enjoying a gorgeous 3-day weekend at Splashway. Come for the day\, or stay for the weekend - we have everything you&rsquo\;ll need to have some fun in the sun!</span><br style="color: rgb(29\, 33\, 41)\; font-family: Helvetica\, Arial\, sans-serif\; font-size: 14px\;" />\n<br style="color: rgb(29\, 33\, 41)\; font-family: Helvetica\, Arial\, sans-serif\; font-size: 14px\;" />\n<span style="color: rgb(29\, 33\, 41)\; font-family: Helvetica\, Arial\, sans-serif\; font-size: 14px\;">Did you know our Laser Tag and Putt Putt Courses are open to everyone\, not just campers? If you&rsquo\;re coming for just a day trip\, make sure to swing by our campgrounds for a little friendly family competition!</span><br style="color: rgb(29\, 33\, 41)\; font-family: Helvetica\, Arial\, sans-serif\; font-size: 14px\;" />\n<br style="color: rgb(29\, 33\, 41)\; font-family: Helvetica\, Arial\, sans-serif\; font-size: 14px\;" />\n<span style="color: rgb(29\, 33\, 41)\; font-family: Helvetica\, Arial\, sans-serif\; font-size: 14px\;">In the campgrounds\, we&rsquo\;ll be celebrating our Hometown Heroes and giving you an up-close look on what it takes to be one of the brave members of a police or fire department. We&rsquo\;ll also have crafts\, movie nights\, games\, live music\, and more! BOOK NOW - Cabins and Cottages are still available!</span><br style="color: rgb(29\, 33\, 41)\; font-family: Helvetica\, Arial\, sans-serif\; font-size: 14px\;" />\n<br style="color: rgb(29\, 33\, 41)\; font-family: Helvetica\, Arial\, sans-serif\; font-size: 14px\;" />\n<span style="color: rgb(29\, 33\, 41)\; font-family: Helvetica\, Arial\, sans-serif\; font-size: 14px\;">*Please note\, all campground activities are exclusive to campground guests. Waterpark tickets do not grant you access to the campgrounds.</span>
LOCATION:Splashway Waterpark& Campground 5211 Main Street Sheridan\, Texas
UID:e.3109.4183
SEQUENCE:3
DTSTAMP:20260422T140407Z
URL:https://business.columbustexas.org/events/details/labor-day-splashway-4183
END:VEVENT

END:VCALENDAR
