BEGIN:VCALENDAR
VERSION:2.0
PRODID:-//ChamberMaster//Event Calendar 2.0//EN
METHOD:PUBLISH
X-PUBLISHED-TTL:P3D
REFRESH-INTERVAL:P3D
CALSCALE:GREGORIAN
BEGIN:VEVENT
DTSTART:20251204T220000Z
DTEND:20251205T030000Z
X-MICROSOFT-CDO-ALLDAYEVENT:FALSE
SUMMARY:Ladies Night Out
DESCRIPTION:Annual Ladies Night Out\n\n\n\nDowntown and area merchants open late for shopping.  \n\nVendors set up on the Courthouse lawn and other areas around town.\n\nShopping Specials.\n\nFood Trucks\n\nSanta Bingo\n\nWine Sampling\n\nHorse & Carriage Rides\n\n\n\nBuy a collectible wine glass and enjoy wine sampling.  Glasses go on sale November 17 at the Chamber office.
X-ALT-DESC;FMTTYPE=text/html:Annual Ladies Night Out<br />\n<br />\nDowntown and area merchants open late for shopping.&nbsp\;&nbsp\;<br />\nVendors set up on the Courthouse lawn and other areas around town.<br />\nShopping Specials.<br />\nFood Trucks<br />\nSanta Bingo<br />\nWine Sampling<br />\nHorse &amp\; Carriage Rides<br />\n<br />\nBuy a collectible wine glass and enjoy wine sampling.&nbsp\; Glasses go on sale November 17 at the Chamber office.&nbsp\;&nbsp\;
LOCATION:Downtown Columbus
UID:e.3109.13013
SEQUENCE:3
DTSTAMP:20260419T140227Z
URL:https://business.columbustexas.org/events/details/ladies-night-out-13013
END:VEVENT

END:VCALENDAR
