BEGIN:VCALENDAR
VERSION:2.0
PRODID:-//ChamberMaster//Event Calendar 2.0//EN
METHOD:PUBLISH
X-PUBLISHED-TTL:P3D
REFRESH-INTERVAL:P3D
CALSCALE:GREGORIAN
BEGIN:VEVENT
DTSTART:20240727T190000Z
DTEND:20240727T220000Z
X-MICROSOFT-CDO-ALLDAYEVENT:FALSE
SUMMARY:Live Music by Nathan Colt Young & Michelle Kay
DESCRIPTION:
X-ALT-DESC;FMTTYPE=text/html:
LOCATION:Whistling Duck WInery 1211 County Road 273Weimar\, TX 78962
UID:e.3109.12747
SEQUENCE:3
DTSTAMP:20260421T081301Z
URL:https://business.columbustexas.org/events/details/live-music-by-nathan-colt-young-michelle-kay-12747
END:VEVENT

END:VCALENDAR
