BEGIN:VCALENDAR
VERSION:2.0
PRODID:-//ChamberMaster//Event Calendar 2.0//EN
METHOD:PUBLISH
X-PUBLISHED-TTL:P3D
REFRESH-INTERVAL:P3D
CALSCALE:GREGORIAN
BEGIN:VEVENT
DTSTART:20210919T000000Z
DTEND:20210919T030000Z
X-MICROSOFT-CDO-ALLDAYEVENT:FALSE
SUMMARY:Season Ammons @ Hound Song Brewing Company
DESCRIPTION:Season Ammons performs live from the Hound Song Brewing Co. brew house.\n\nNo cover charge.\n\nNo reservations necessary.
X-ALT-DESC;FMTTYPE=text/html:<div class="kvgmc6g5 cxmmr5t8 oygrvhab hcukyx3x c1et5uql" style="overflow-wrap: break-word\; margin: 0px\; animation-name: none !important\; transition-property: none !important\; font-family: inherit\;"><span class="d2edcug0 hpfvmrgz qv66sw1b c1et5uql lr9zc1uh a8c37x1j keod5gw0 nxhoafnm aigsh9s9 d3f4x2em fe6kdd0r mau55g9w c8b282yb iv3no6db jq4qci2q a3bd9o3v knj5qynh oo9gr5id" dir="auto" style="line-height: 1.3333\; display: block\; overflow-wrap: break-word\; max-width: 100%\; min-width: 0px\; font-size: 0.9375rem\; font-family: &quot\;Segoe UI Historic&quot\;\, &quot\;Segoe UI&quot\;\, Helvetica\, Arial\, sans-serif\; color: var(--primary-text)\; word-break: break-word\; animation-name: none !important\; transition-property: none !important\;">Season Ammons performs live from the Hound Song Brewing Co. brew house.</span></div>\n\n<div class="o9v6fnle cxmmr5t8 oygrvhab hcukyx3x c1et5uql" style="overflow-wrap: break-word\; margin: 0.5em 0px 0px\; animation-name: none !important\; transition-property: none !important\; font-family: inherit\;"><span class="d2edcug0 hpfvmrgz qv66sw1b c1et5uql lr9zc1uh a8c37x1j keod5gw0 nxhoafnm aigsh9s9 d3f4x2em fe6kdd0r mau55g9w c8b282yb iv3no6db jq4qci2q a3bd9o3v knj5qynh oo9gr5id" dir="auto" style="line-height: 1.3333\; display: block\; overflow-wrap: break-word\; max-width: 100%\; min-width: 0px\; font-size: 0.9375rem\; font-family: &quot\;Segoe UI Historic&quot\;\, &quot\;Segoe UI&quot\;\, Helvetica\, Arial\, sans-serif\; color: var(--primary-text)\; word-break: break-word\; animation-name: none !important\; transition-property: none !important\;">No cover charge.<br style="animation-name: none !important\; transition-property: none !important\;" />\nNo reservations necessary.</span></div>\n\n<div>&nbsp\;</div>\n\n<div class="k4urcfbm l9j0dhe7 stjgntxs ni8dbmo4 l82x9zwi uo3d90p7 pw54ja7n ue3kfks5" style="width: 468.011px\; border-radius: 8px\; position: relative\; overflow: hidden\; font-family: &quot\;Segoe UI Historic&quot\;\, &quot\;Segoe UI&quot\;\, Helvetica\, Arial\, sans-serif\; color: rgb(28\, 30\, 33)\; font-size: 12px\; animation-name: none !important\; transition-property: none !important\;">\n<div style="animation-name: none !important\; transition-property: none !important\; font-family: inherit\; height: 0px\;">&nbsp\;</div>\n</div>\n
LOCATION:Hound Song Brewing Company 535 Walnut Street Columbus\, Texas
UID:e.3109.7607
SEQUENCE:3
DTSTAMP:20260424T031703Z
URL:https://business.columbustexas.org/events/details/season-ammons-hound-song-brewing-company-7607
END:VEVENT

END:VCALENDAR
