BEGIN:VCALENDAR
VERSION:2.0
PRODID:-//ChamberMaster//Event Calendar 2.0//EN
METHOD:PUBLISH
X-PUBLISHED-TTL:P3D
REFRESH-INTERVAL:P3D
CALSCALE:GREGORIAN
BEGIN:VEVENT
DTSTART:20190112T210000Z
DTEND:20190112T230000Z
X-MICROSOFT-CDO-ALLDAYEVENT:FALSE
SUMMARY:Texas Guitar Quartet Performs at Festival Hill
DESCRIPTION:Round Top Festival Institute is pleased to announce the return of the Texas Guitar Quartet in concert in the Festival Concert Hall
X-ALT-DESC;FMTTYPE=text/html:Round Top Festival Institute is pleased to announce the return of the Texas Guitar Quartet in concert in the Festival Concert Hall
LOCATION:Festival Concert Hall 248 Jaster Road Round Top\, TX 78954 979-249-3129
UID:e.3109.5061
SEQUENCE:3
DTSTAMP:20260424T044715Z
URL:https://business.columbustexas.org/events/details/texas-guitar-quartet-performs-at-festival-hill-5061
END:VEVENT

END:VCALENDAR
