BEGIN:VCALENDAR
VERSION:2.0
PRODID:-//ChamberMaster//Event Calendar 2.0//EN
METHOD:PUBLISH
X-PUBLISHED-TTL:P3D
REFRESH-INTERVAL:P3D
CALSCALE:GREGORIAN
BEGIN:VEVENT
DTSTART:20221021T230000Z
DTEND:20221022T010000Z
X-MICROSOFT-CDO-ALLDAYEVENT:FALSE
SUMMARY:Trash-to-Treasure Bingo
DESCRIPTION:One card per person.\n\nNo Charge\n\nAmazing donated prizes\n\nBingo is from 6-8 but The Duck will stay open until 9 pm
X-ALT-DESC;FMTTYPE=text/html:One card per person.<br />\nNo Charge<br />\nAmazing donated prizes<br />\nBingo is from 6-8 but The Duck will stay open until 9 pm
LOCATION:Whistling Duck Vineyards & Winery 1211 CR 273 Weimar\, Texas 78962
UID:e.3109.8490
SEQUENCE:3
DTSTAMP:20260422T121041Z
URL:https://business.columbustexas.org/events/details/trash-to-treasure-bingo-8490
END:VEVENT

END:VCALENDAR
