BEGIN:VCALENDAR
VERSION:2.0
PRODID:-//ChamberMaster//Event Calendar 2.0//EN
METHOD:PUBLISH
X-PUBLISHED-TTL:P3D
REFRESH-INTERVAL:P3D
CALSCALE:GREGORIAN
BEGIN:VEVENT
DTSTART:20240531T233000Z
DTEND:20240601T210000Z
X-MICROSOFT-CDO-ALLDAYEVENT:FALSE
SUMMARY:Watercolor Workshop with Stephen Henry
DESCRIPTION:Acquire a strong watercolor painting foundation and learn skills with expert guidance\, where experienced artist and instructor Stephen Henry shares essential techniques for skill development.\n\n\n\nClick the link to register: https://secure.givelively.org/event/live-oak-art-center/two-day-watercolor-workshop-with-artist-stephen-henry\n\nThis will be a two day workshop:\n\nDay 1 - May 31st from 6:00pm to 8:00pm \n\nDay 2 - June 1st from 10:00am to 4:00pm\n\nRegistration Fee is $200 and all supplies are included.
X-ALT-DESC;FMTTYPE=text/html:<p><strong>Acquire a strong watercolor painting foundation and learn skills with expert guidance\, where experienced artist and instructor Stephen Henry shares essential techniques for skill development.<br />\n<br />\nClick the link to register:&nbsp\;</strong>https://secure.givelively.org/event/live-oak-art-center/two-day-watercolor-workshop-with-artist-stephen-henry</p>\n\n<p><strong>This will be a two day workshop:</strong></p>\n\n<p><strong>Day 1 - May 31st from 6:00pm to 8:00pm&nbsp\;</strong></p>\n\n<p><strong>Day 2 - June 1st from 10:00am to 4:00pm</strong></p>\n\n<p><strong>Registration Fee is $200 and all supplies are included.&nbsp\;</strong></p>\n
LOCATION:Live Oak Art Center 1014 Milam Street Columbus\, Tx 78934 Gallery: 979-732-8398
UID:e.3109.11956
SEQUENCE:3
DTSTAMP:20260420T102958Z
URL:https://business.columbustexas.org/events/details/watercolor-workshop-with-stephen-henry-11956
END:VEVENT

END:VCALENDAR
