BEGIN:VCALENDAR
VERSION:2.0
PRODID:-//ChamberMaster//Event Calendar 2.0//EN
METHOD:PUBLISH
X-PUBLISHED-TTL:P3D
REFRESH-INTERVAL:P3D
CALSCALE:GREGORIAN
BEGIN:VEVENT
DTSTART:20210627T153000Z
DTEND:20210627T180000Z
X-MICROSOFT-CDO-ALLDAYEVENT:FALSE
SUMMARY:Weimar KC's Chicken Fried Steak Dinner
DESCRIPTION:Weimar Knights of Columbus #2153\n\nHand battered Chicken Fried Steak Dinner with sides\n\n$12 per plate\n\nDrive-Thru Only\n\nProceeds benefit the K of C #2153 Scholarship Fund
X-ALT-DESC;FMTTYPE=text/html:Weimar Knights of Columbus #2153<br />\nHand battered Chicken Fried Steak Dinner with sides<br />\n$12 per plate<br />\nDrive-Thru Only<br />\nProceeds benefit the K of C #2153 Scholarship Fund
LOCATION:St. Michael Catholic Church Family Center in Weimar
UID:e.3109.7394
SEQUENCE:3
DTSTAMP:20260423T195545Z
URL:https://business.columbustexas.org/events/details/weimar-kc-s-chicken-fried-steak-dinner-7394
END:VEVENT

END:VCALENDAR
