BEGIN:VCALENDAR
VERSION:2.0
PRODID:-//ChamberMaster//Event Calendar 2.0//EN
METHOD:PUBLISH
X-PUBLISHED-TTL:P3D
REFRESH-INTERVAL:P3D
CALSCALE:GREGORIAN
BEGIN:VEVENT
DTSTART:20240509T170000Z
DTEND:20240509T180000Z
X-MICROSOFT-CDO-ALLDAYEVENT:FALSE
SUMMARY:Wellness Council Monthly Meeting
DESCRIPTION:Meetings are open to the public.\n\nLearn about available resources & networking partners\n\nUpcoming Housing & Transportation Needs Assessment (Texas A&M University School of Public Health)
X-ALT-DESC;FMTTYPE=text/html:Meetings are open to the public.<br />\nLearn about available resources &amp\; networking partners<br />\nUpcoming Housing &amp\; Transportation Needs Assessment (Texas A&amp\;M University&nbsp\;School of Public Health)<br />\n&nbsp\;
LOCATION:Colorado County Courtroom\, 1st floor 400 Spring Street Columbus\, Texas
UID:e.3109.9779
SEQUENCE:3
DTSTAMP:20260420T141413Z
URL:https://business.columbustexas.org/events/details/wellness-council-monthly-meeting-05-09-2024-9779
END:VEVENT

END:VCALENDAR
